BEGIN:VCALENDAR
VERSION:2.0
PRODID:-//eventon.com NONSGML v1.0//EN
CALSCALE:GREGORIAN
METHOD:PUBLISH
BEGIN:VEVENT
UID:69ed6b896195f
DTSTAMP:20260426T013401Z
DTSTART:20260428T040000Z
DTEND:20260430T140000Z
LOCATION:Marriott Al Forsan Abu Dhabi A - Al Forsan International Sports Resort - Al Fursan St - Khalifa\,  Abu Dhabi\,  Emirate of Abu Dhabi
SUMMARY:Cargo Facts EMEA
DESCRIPTION:Discuss cargo growth and market outlook at Cargo Facts EMEA in 
 Abu Dhabi\,  28–30 April. Click here for more information &gt;&gt;\nhttps
 ://www.zeevogroup.com/all-events/cargo-facts-emea/
URL:https://www.zeevogroup.com/all-events/cargo-facts-emea/
END:VEVENT
END:VCALENDAR