BEGIN:VCALENDAR
VERSION:2.0
PRODID:-//eventon.com NONSGML v1.0//EN
CALSCALE:GREGORIAN
METHOD:PUBLISH
BEGIN:VEVENT
UID:69ed6ba6859ea
DTSTAMP:20260426T013430Z
DTSTART:20260512T010000Z
DTEND:20260514T110000Z
LOCATION:The Athenee Hotel 61 Witthayu Rd\,  Lumphini\,  Pathum Wan\,  Bangkok 10330\,  Thailand
SUMMARY:ISTAT Asia
DESCRIPTION:Meet Zeevo at ISTAT Asia 2026 in Bangkok\,  12–14 May. Insigh
 tful sessions on Asian aviation finance. Click here for more information &g
 t;&gt;\nhttps://www.zeevogroup.com/all-events/istat-asia-3/
URL:https://www.zeevogroup.com/all-events/istat-asia-3/
END:VEVENT
END:VCALENDAR