BEGIN:VCALENDAR
VERSION:2.0
PRODID:-//eventon.com NONSGML v1.0//EN
CALSCALE:GREGORIAN
METHOD:PUBLISH
BEGIN:VEVENT
UID:69ed7e79a2a62
DTSTAMP:20260426T025449Z
DTSTART:20261020T130000Z
DTEND:20261020T223000Z
LOCATION:Convene 555 Broadway 555 Broadway\,  New York\,  NY 10012\,  USA
SUMMARY:Ishka Aviation Investival: North America
DESCRIPTION:Build connections and collaborate with investors at every stage
 . Click here to learn more &gt;&gt;\nhttps://www.zeevogroup.com/all-events/
 ishka-aviation-investival-new-york/
URL:https://www.zeevogroup.com/all-events/ishka-aviation-investival-new-york/
END:VEVENT
END:VCALENDAR