BEGIN:VCALENDAR
VERSION:2.0
PRODID:-//eventon.com NONSGML v1.0//EN
CALSCALE:GREGORIAN
METHOD:PUBLISH
BEGIN:VEVENT
UID:69ed6c2ed3ce4
DTSTAMP:20260426T013646Z
DTSTART:20260603T120000Z
DTEND:20260604T213000Z
LOCATION:Miami Beach Convention Center 1901 Convention Ctr Dr\,  Miami Beach\,  FL 33139
SUMMARY:World Aviation Festival Americas 2026
DESCRIPTION:Aviation Festival Americas is the leading airline and airport c
 onference for North\,  Central\,  and South America\,  bringing together se
 nior aviation leaders. Click here to learn more &gt;&gt;\nhttps://www.zeevo
 group.com/all-events/world-aviation-festival-americas-2026/
URL:https://www.zeevogroup.com/all-events/world-aviation-festival-americas-2026/
END:VEVENT
END:VCALENDAR